BEGIN:VCALENDAR
VERSION:2.0
PRODID:-//https://www.hippodrome-saint-galmier.fr///NONSGML kigkonsult.se iCalcreator 2.10.15//
METHOD:PUBLISH
BEGIN:VEVENT
UID:20260421T232936CEST-0147urvDEe@https://www.hippodrome-saint-galmier.fr/
DTSTAMP:20260421T212936Z
DESCRIPTION: https://www.hippodrome-saint-galmier.fr/agenda/evenement/759-q
 ualifications
DTSTART:20240329T083000Z
DTEND:20240329T113000Z
LOCATION:Hippodrome Jean Desjoyaux (52 Route de Cuzieu\, 42330 Saint-Galmie
 r\, France)
SUMMARY:QUALIFICATIONS
URL:https://www.hippodrome-saint-galmier.fr/agenda/evenement/759-qualificat
 ions
END:VEVENT
END:VCALENDAR
