BEGIN:VCALENDAR
VERSION:2.0
PRODID:-//https://www.hippodrome-saint-galmier.fr///NONSGML kigkonsult.se iCalcreator 2.10.15//
METHOD:PUBLISH
BEGIN:VEVENT
UID:20260423T150741CEST-48635dJzaJ@https://www.hippodrome-saint-galmier.fr/
DTSTAMP:20260423T130741Z
DESCRIPTION: https://www.hippodrome-saint-galmier.fr/agenda/evenement/758-q
 ualifications
DTSTART:20240304T110000Z
DTEND:20240304T140000Z
LOCATION:Hippodrome Jean Desjoyaux (52 Route de Cuzieu\, 42330 Saint-Galmie
 r\, France)
SUMMARY:QUALIFICATIONS
URL:https://www.hippodrome-saint-galmier.fr/agenda/evenement/758-qualificat
 ions
END:VEVENT
END:VCALENDAR
