BEGIN:VCALENDAR
VERSION:2.0
PRODID:-//https://www.hippodrome-saint-galmier.fr///NONSGML kigkonsult.se iCalcreator 2.10.15//
METHOD:PUBLISH
BEGIN:VEVENT
UID:20260424T125626CEST-48158NpO2w@https://www.hippodrome-saint-galmier.fr/
DTSTAMP:20260424T105626Z
DESCRIPTION: https://www.hippodrome-saint-galmier.fr/agenda/evenement/747-r
 eunion-hippique
DTSTART:20240219T163000Z
DTEND:20240219T213000Z
LOCATION:Hippodrome Jean Desjoyaux (52 Route de Cuzieu\, 42330 Saint-Galmie
 r\, France)
SUMMARY:REUNION HIPPIQUE
URL:https://www.hippodrome-saint-galmier.fr/agenda/evenement/747-reunion-hi
 ppique
END:VEVENT
END:VCALENDAR
