BEGIN:VCALENDAR
VERSION:2.0
PRODID:-//https://www.hippodrome-saint-galmier.fr///NONSGML kigkonsult.se iCalcreator 2.10.15//
METHOD:PUBLISH
BEGIN:VEVENT
UID:20260424T125322CEST-9392DUViUb@https://www.hippodrome-saint-galmier.fr/
DTSTAMP:20260424T105322Z
DESCRIPTION: https://www.hippodrome-saint-galmier.fr/agenda/evenement/768-e
 ntrainements
DTSTART:20240220T110000Z
DTEND:20240220T140000Z
LOCATION:Hippodrome Jean Desjoyaux (52 Route de Cuzieu\, 42330 Saint-Galmie
 r\, France)
SUMMARY:ENTRAINEMENTS 
URL:https://www.hippodrome-saint-galmier.fr/agenda/evenement/768-entraineme
 nts
END:VEVENT
END:VCALENDAR
