BEGIN:VCALENDAR
VERSION:2.0
PRODID:-//https://www.hippodrome-saint-galmier.fr///NONSGML kigkonsult.se iCalcreator 2.10.15//
METHOD:PUBLISH
BEGIN:VEVENT
UID:20260425T021939CEST-964648312p@https://www.hippodrome-saint-galmier.fr/
DTSTAMP:20260425T001939Z
DESCRIPTION: https://www.hippodrome-saint-galmier.fr/agenda/evenement/746-r
 eunion-hippique
DTSTART:20240211T110000Z
DTEND:20240211T160000Z
LOCATION:Hippodrome Jean Desjoyaux (52 Route de Cuzieu\, 42330 Saint-Galmie
 r\, France)
SUMMARY:REUNION HIPPIQUE
URL:https://www.hippodrome-saint-galmier.fr/agenda/evenement/746-reunion-hi
 ppique
END:VEVENT
END:VCALENDAR
